BEGIN:VCALENDAR
VERSION:2.0
PRODID:-//Drogheda Arts Festival - ECPv5.6.0//NONSGML v1.0//EN
CALSCALE:GREGORIAN
METHOD:PUBLISH
X-WR-CALNAME:Drogheda Arts Festival
X-ORIGINAL-URL:https://droghedaartsfestival.ie
X-WR-CALDESC:Events for Drogheda Arts Festival
BEGIN:VTIMEZONE
TZID:Europe/Dublin
BEGIN:STANDARD
TZOFFSETFROM:+0000
TZOFFSETTO:+0100
TZNAME:IST
DTSTART:20220327T010000
END:STANDARD
BEGIN:DAYLIGHT
TZOFFSETFROM:+0100
TZOFFSETTO:+0000
TZNAME:GMT
DTSTART:20221030T010000
END:DAYLIGHT
END:VTIMEZONE
BEGIN:VEVENT
DTSTART;TZID=Europe/Dublin:20220430T120000
DTEND;TZID=Europe/Dublin:20220430T140000
DTSTAMP:20260422T222612
CREATED:20220407T102223Z
LAST-MODIFIED:20220428T173233Z
UID:1535-1651320000-1651327200@droghedaartsfestival.ie
SUMMARY:A92 Drill Music Workshop
DESCRIPTION:A92 Drill Music Workshop Featuring Ksav\, Dbo\, Safo\, Confam Charlito formally known as C2 and Niamh McGovern \nIn association with members of the collective and Boomerang Café.  \nWith nearly 80 million Spotify streams on one of their recent releases\, ‘Plugged In Freestyle’ Drogheda Arts Festival  is delighted to welcome members of A92 to discuss their creative process\, how they produce their music\, in this interactive music workshop and discussion\, in conjunction with Boomerang Youth Cafe in their new recording studio. \nFollowing the release of their debut mixtape 92 Degrees\, Top 40 chart success in Ireland and the UK\, and millions of Spotify streams\, Drogheda drill collective A92 has toured nationally and internationally with their music.  \nJoin drill collective members for this exclusive workshop\, suitable for 12-18 yrs. \nBOOK NOW
URL:https://droghedaartsfestival.ie/event/a92-drill-music-workshop/
LOCATION:Boomerang Youth Cafe
CATEGORIES:All Events
ATTACH;FMTTYPE=image/jpeg:https://droghedaartsfestival.ie/wp-content/uploads/2022/04/A92.jpg
END:VEVENT
END:VCALENDAR