BEGIN:VCALENDAR
VERSION:2.0
PRODID:-//Drogheda Arts Festival - ECPv5.6.0//NONSGML v1.0//EN
CALSCALE:GREGORIAN
METHOD:PUBLISH
X-WR-CALNAME:Drogheda Arts Festival
X-ORIGINAL-URL:https://droghedaartsfestival.ie
X-WR-CALDESC:Events for Drogheda Arts Festival
BEGIN:VTIMEZONE
TZID:Europe/Dublin
BEGIN:STANDARD
TZOFFSETFROM:+0000
TZOFFSETTO:+0100
TZNAME:IST
DTSTART:20220327T010000
END:STANDARD
BEGIN:DAYLIGHT
TZOFFSETFROM:+0100
TZOFFSETTO:+0000
TZNAME:GMT
DTSTART:20221030T010000
END:DAYLIGHT
END:VTIMEZONE
BEGIN:VEVENT
DTSTART;TZID=Europe/Dublin:20220428T200000
DTEND;TZID=Europe/Dublin:20220429T200000
DTSTAMP:20260423T051756
CREATED:20220324T193854Z
LAST-MODIFIED:20220331T162154Z
UID:1480-1651176000-1651262400@droghedaartsfestival.ie
SUMMARY:Behind Locked Doors | Quintessence Theatre
DESCRIPTION:Quintessence Theatre return to the live stage with an original dark drama exploring the shadow pandemics of Ireland’s lockdown: domestic violence and parental alienation. \nLockdown. Locked up. Locked in. No way out. No way in… \nQuintessence Theatre in association with Droichead Arts Centre\, An Táin Arts Centre and Drogheda Arts Festival\, proudly present\, Behind Locked Doors. \nBehind Locked Doors first premiered as a short digital mini-series in Drogheda Arts Festival 2021. The live stage production will have its world premiere at Droichead Arts Centre as part of Drogheda Arts Festival 2022. \nBased on true stories from lockdown 2020\, Quintessence introduces you to two neighbours who find themselves unable to leave their homes in Drogheda due to national Covid restrictions. One just wants to feel safe in her own home. The other just wants to see his children. \nEach performance will be followed by a post show discussion with the director\, cast\, and a representative from Women’s Aid and Treoir. \nAudience Reactions from their mini-series as part of Drogheda Arts Festival 2021 programme. \n“Powerful … Words Fail Me” \n“Unmissable” \n“Compelling” \n“Heart Shatteringly Brilliant” \n“Moving” \n  \nThe Company \nQuintessence seeks to explore the human condition through the most theatrical means available to us: the actor themselves\, and their imagination. We seek to surprise\, move and provoke our audiences\, entertaining them and creating dynamic\, innovative\, visceral and compassionate storytelling that touches on issues at the heart of Irish society here and now. \n  \nSome previous productions by Quintessence Theatre include: Cracks (Islandwide Tour 2018); Dracula (2017 & 2018 – Winner Broadway World’s BEST NEW PLAY 2018); The Star of Chester’s Lane (Commission of Drogheda Arts Festival 2018 & National Tour 2021) & The Curious Case of Albert Cashier: Lincoln’s Lady Soldier (March 2020).  Albert Cashier is the  remarkable true story of a Trans soldier (originally from Clogherhead\, Co Louth) who fought in the American Civil War.  Quintessence hope to tour with this production at some point in the near future. \n  \nDrogheda Arts Festival welcomes the return of Quintessence to Droichead Arts Centre for this long anticipated live show; Behind Locked Doors. \n  \nIn line with government guidelines\, we are slowly easing restrictions and increasing our venue capacity in a safe and considered way.  Audiences may choose to wear masks but it is not mandatory. Our FOH and backstage staff will continue to wear face masks at this time. Our bar will be open for preshow drinks. Please read our Covid guidelines before you arrive. Thank you for your continued support. \n\n\nBOOK NOW
URL:https://droghedaartsfestival.ie/event/behind-locked-doors-quintessence-theatre/
LOCATION:Droichead Arts Centre
CATEGORIES:All Events,Upcoming
ATTACH;FMTTYPE=image/jpeg:https://droghedaartsfestival.ie/wp-content/uploads/2022/03/BEHIND-LOCKED-DOORS-Quintessence-Theatre-.jpg
END:VEVENT
END:VCALENDAR