BEGIN:VCALENDAR
VERSION:2.0
PRODID:-//Drogheda Arts Festival - ECPv5.6.0//NONSGML v1.0//EN
CALSCALE:GREGORIAN
METHOD:PUBLISH
X-WR-CALNAME:Drogheda Arts Festival
X-ORIGINAL-URL:https://droghedaartsfestival.ie
X-WR-CALDESC:Events for Drogheda Arts Festival
BEGIN:VTIMEZONE
TZID:Europe/Dublin
BEGIN:STANDARD
TZOFFSETFROM:+0000
TZOFFSETTO:+0100
TZNAME:IST
DTSTART:20220327T010000
END:STANDARD
BEGIN:DAYLIGHT
TZOFFSETFROM:+0100
TZOFFSETTO:+0000
TZNAME:GMT
DTSTART:20221030T010000
END:DAYLIGHT
END:VTIMEZONE
BEGIN:VEVENT
DTSTART;TZID=Europe/Dublin:20220502T133000
DTEND;TZID=Europe/Dublin:20220502T160000
DTSTAMP:20260423T032512
CREATED:20220330T211122Z
LAST-MODIFIED:20220421T151239Z
UID:1498-1651498200-1651507200@droghedaartsfestival.ie
SUMMARY:DAF Big Day Out Presents - Out Of The Deep Blue
DESCRIPTION:Come meet Eko\, a sea giant who rises from the deep ocean and who encounters\, on the shore\, a courageous little girl called Violet. \n  \nDrogheda Arts Festival are delighted to programme the Irish premiere of Out Of The Deep Blue Sea and Autin Dance Theatre. \nThis spectacle performance has been made especially for family and festival audiences. \nMeet Eko and his friends in Dominics Park this May Bank Holiday Monday and follow their story.  \n  \nTicket Price \nFree – outdoor event \nTime \n1.30pm and 4pm
URL:https://droghedaartsfestival.ie/event/daf-big-day-out-presents-out-of-the-deep-blue/
LOCATION:St Dominic’s Park\, Rathmullen Rd\, Drogheda\, Ireland
CATEGORIES:All Events,This week events,Upcoming
ATTACH;FMTTYPE=image/jpeg:https://droghedaartsfestival.ie/wp-content/uploads/2022/03/Big-day-out.jpg
END:VEVENT
END:VCALENDAR