BEGIN:VCALENDAR
VERSION:2.0
PRODID:-//Drogheda Arts Festival - ECPv5.6.0//NONSGML v1.0//EN
CALSCALE:GREGORIAN
METHOD:PUBLISH
X-WR-CALNAME:Drogheda Arts Festival
X-ORIGINAL-URL:https://droghedaartsfestival.ie
X-WR-CALDESC:Events for Drogheda Arts Festival
BEGIN:VTIMEZONE
TZID:Europe/Dublin
BEGIN:STANDARD
TZOFFSETFROM:+0000
TZOFFSETTO:+0100
TZNAME:IST
DTSTART:20220327T010000
END:STANDARD
BEGIN:DAYLIGHT
TZOFFSETFROM:+0100
TZOFFSETTO:+0000
TZNAME:GMT
DTSTART:20221030T010000
END:DAYLIGHT
END:VTIMEZONE
BEGIN:VEVENT
DTSTART;TZID=Europe/Dublin:20220502T130000
DTEND;TZID=Europe/Dublin:20220502T170000
DTSTAMP:20260422T195119
CREATED:20220324T183852Z
LAST-MODIFIED:20220428T135243Z
UID:1453-1651496400-1651510800@droghedaartsfestival.ie
SUMMARY:DAF Big Day Out Presents...
DESCRIPTION:Join us in Dominics Park\, Drogheda on Monday May 2nd for a day of free music\, events and activities\, for all ages. \n  \nOut Of The Deep Blue | Come meet Eko\, a sea giant who rises from the deep ocean and who encounters\, on the shore\, a courageous little girl called Violet. Drogheda Arts Festival are delighted to programme the Irish premiere of Out Of The Deep Blue Sea and Autin Dance Theatre. This spectacle performance has been made especially for family and festival audiences. Meet Eko and his friends in Dominics Park this May Bank Holiday Monday and follow their story. Suitable for all ages \nAudience Access // Audio Description: \nPre-recorded Audio Description including audio notes are available\nAudio notes\nAD\n \nA Touch Tour is also available before each performance\, for more information please contact hello@droghedaartsfestival.ie \n“The show was a combination of dance and puppetry on a level worthy of comparison to Handspring’s War Horse at the National Theatre. […] The charming\, wordless storytelling managed to convey excitement\, enthusiasm and emotion.” Andy Evans Review Culture \n  \n \nBricí Spraoi | Come explore Bricí Spraoi! An imagination playground especially designed for children. With lots of big blue blocks\, in various shapes and sizes – squares\, channels\, chutes\, balls\, connectors and more\, children can build\, explore and create whatever their imagination likes! Suitable for ages 3-10 years of age\, and their families. \n  \n  \n  \n  \n  \n \nCycle Circus | An outdoor show for all the family\, a celebration of circus\, the human body\, the bicycle—and a lot of craic! There’s no need to travel to the big top! With acrobatics\, juggling\, hula hoops\, slapstick\, bottle walking\, solo and group numbers—this show is all human and all skill! Suitable for family and festival audiences.  Created by Ken Fanning\, Tina Segner and the Tumble Circus ensemble. Suitable for all ages \n  \n  \nGoodnight Egg | Join Bombinate Theatre as they present Goodnight Egg\, made especially for children and families. Sometimes it can be hard to sleep. Our minds wander and we can’t keep our eyes shut. But tonight\, things will be different. Cross your fingers (and toes)! Goodnight Egg is a joyful new show from the award-winning creators of Half Light and Susie and the Story Shredder. Suitable for under 7s\, and their families. \nPlease note this is an outdoor event\, you are welcome to bring your own blankets\, chairs and cushions \n  \n  \n  \nMarquee Stage\n1:00 Marquee Stage: Drogheda Brass Band\nDrogheda Brass Band has served the town for over 126 continuous years and has performed at all the major civic occasions in the town during that time. We look forward to having them at Drogheda Arts Festival – Big Day Out!\n  \n1:45 Marquee Stage: International Song Group \nThe International Song Group encourages women to come together in a safe environment to collectively embark on a journey that encourages the members to develop their singing skills\, exchange songs from their individual traditions and develop cultural links between the various communities that make up Irish society. \nArtistic and technical facilitation is led by singer-songwriter Farah Elle and singing instructor and recording artist Caroline Moreau. \n2:30 Marquee Stage: Drogheda Brass Band \n\nDrogheda Brass Band has served the town for over 126 continuous years and has performed at all the major civic occasions in the town during that time. We look forward to having them at Drogheda Arts Festival – Big Day Out!\n \n3:30 Marquee Stage: Trad In The Park: \nMusic at The Gate will be putting on a free family friendly event that promotes traditional Irish music in Drogheda. Bring an instrument. Musicians\, singers and dancers are encouraged. \n  \n  \nDome Tent\n1:20 Dome Tent: Grainne Rafferty Story Telling\nLocal storyteller\, writer and director Grainne Rafferty presents stories as old as time especially for children.\n\n\n1:45 Dome Tent: Bombinate Theatre | Goodnight Egg.\nJoin Bombinate Theatre as they present Goodnight Egg\, made especially for children and families.\n\n3:00pm Dome Tent: Grainne Rafferty Story Telling\nLocal storyteller\, writer and director Grainne Rafferty presents stories as old as time especially for children.\n  \n3:30pm Dome Tent: Bombinate Theatre | Goodnight Egg.\nJoin Bombinate Theatre as they present Goodnight Egg\, made especially for children and families.\n\n  \nOutdoor Area\n1:00pm Tumble Circus – Cycle Circus \nCycle Circus is an outdoor show for all the family\, a celebration of circus\, the human body\, the bicycle—and a lot of craic! \n  \n1:30pm Outdoor Area Autin Dance Theatre | Out Of The Deep Blue \nCome meet Eko\, a sea giant who rises from the deep ocean and who encounters\, on the shore\, a courageous little girl called Violet. \n  \n3:00pm Tumble Circus – Cycle Circus\nCycle Circus is an outdoor show for all the family\, a celebration of circus\, the human body\, the bicycle—and a lot of craic!\n  \nWorkshop: Bricí Spraoi 1 – 5pm \n  \nFREE Parking Available at  – St Nicholas GFC Rathmullen Road
URL:https://droghedaartsfestival.ie/event/daf-big-day-out-presents/
LOCATION:St Dominic’s Park\, Rathmullen Rd\, Drogheda\, Ireland
CATEGORIES:All Events,This week events,Upcoming
ATTACH;FMTTYPE=image/jpeg:https://droghedaartsfestival.ie/wp-content/uploads/2022/03/big-day.jpg
END:VEVENT
END:VCALENDAR