BEGIN:VCALENDAR
VERSION:2.0
PRODID:-//Drogheda Arts Festival - ECPv5.6.0//NONSGML v1.0//EN
CALSCALE:GREGORIAN
METHOD:PUBLISH
X-WR-CALNAME:Drogheda Arts Festival
X-ORIGINAL-URL:https://droghedaartsfestival.ie
X-WR-CALDESC:Events for Drogheda Arts Festival
BEGIN:VTIMEZONE
TZID:Europe/Dublin
BEGIN:STANDARD
TZOFFSETFROM:+0000
TZOFFSETTO:+0100
TZNAME:IST
DTSTART:20220327T010000
END:STANDARD
BEGIN:DAYLIGHT
TZOFFSETFROM:+0100
TZOFFSETTO:+0000
TZNAME:GMT
DTSTART:20221030T010000
END:DAYLIGHT
END:VTIMEZONE
BEGIN:VEVENT
DTSTART;TZID=Europe/Dublin:20220429T103000
DTEND;TZID=Europe/Dublin:20220618T170000
DTSTAMP:20260423T040231
CREATED:20220412T134855Z
LAST-MODIFIED:20220413T120559Z
UID:1579-1651228200-1655571600@droghedaartsfestival.ie
SUMMARY:Helena Gorey – Understory
DESCRIPTION:Helena Gorey’s home is a cottage situated in pastoral landscape close to where she grew up\, with a view to a field with an almost perfect horizon line. One of her earliest memories is picking blackcurrants in this field planted by her father. The experience of growing up and living in this place and its surrounding nature has influenced much of her work. Hers is not a desire to represent but to distill the essence of this place. Her approach is intuitive and her paintings are developed slowly over time. Her desire is to make works that have a sense of depth but may appear effortless. \nPaintings are sometimes bisected by a subtle horizontal line suggesting a possible land or seascape and conjure the atmosphere and wonder of nature through a veil of – light\, mist\, fog and rain. When a sense of completeness is not achieved on first touch a process of layering from light to dark and dark to light is developed in order to arrive home. \nWith Understory she continues this engagement with nature and focuses on the beauty in humble plants of the hedgerows using titles such as Lady’s Bedstraw\, Leaf\, Sloe Berry and Spinney. By concentrating on the richness of colour and texture in nature she attempts to create an immersive sense of landscape without trying to representing it. 
URL:https://droghedaartsfestival.ie/event/helena-gorey-understory/
LOCATION:Highlanes Gallery
ATTACH;FMTTYPE=image/jpeg:https://droghedaartsfestival.ie/wp-content/uploads/2022/04/helena-G.jpg
END:VEVENT
END:VCALENDAR